Workbook

Sheet ENE
A3: NUMERO DE ATENDIDOS Y ATENCIONES AL ESTABLECIMIENTO POR SEXO
A5: Periodo: Enero - 2026
A6: Diresa/Red/M.Red/EE.SS: AREQUIPA/AREQUIPA CAYLLOMA/CALLALLI/TODOS LOS EE.SS
A9: 1. Según Etapa de Vida:
A11: GRUPO ETAREO | B11: ATENDIDOS | E11: ATENCIONES
B12: TOTAL | C12: F | D12: M | E12: TOTAL | F12: F | G12: M
A14: TOTAL GENERAL | B14: 772 | C14: 457 | D14: 315 | E14: 2002 | F14: 1169 | G14: 833
A15: < 01 mes | B15: 3 | C15: 0 | D15: 3 | E15: 14 | F15: 0 | G15: 14
A16: 01 a 11 meses | B16: 15 | C16: 8 | D16: 7 | E16: 48 | F16: 22 | G16: 26
A17: 01 a 04 años | B17: 69 | C17: 40 | D17: 29 | E17: 127 | F17: 69 | G17: 58
A18: 05 a 11 años | B18: 45 | C18: 22 | D18: 23 | E18: 93 | F18: 39 | G18: 54
A19: 12 a 17 años | B19: 43 | C19: 26 | D19: 17 | E19: 106 | F19: 73 | G19: 33
A20: 18 a 29 años | B20: 91 | C20: 68 | D20: 23 | E20: 254 | F20: 187 | G20: 67
A21: 30 a 59 años | B21: 297 | C21: 188 | D21: 109 | E21: 724 | F21: 475 | G21: 249
A22: 60 años a más | B22: 209 | C22: 105 | D22: 104 | E22: 636 | F22: 304 | G22: 332
A24: CS. CALLALLI
A25: GRUPO ETAREO | B25: ATENDIDOS | E25: ATENCIONES
B26: TOTAL | C26: F | D26: M | E26: TOTAL | F26: F | G26: M
A28: TOTAL GENERAL | B28: 289 | C28: 168 | D28: 121 | E28: 817 | F28: 494 | G28: 323
A29: < 01 mes | B29: 2 | C29: 0 | D29: 2 | E29: 5 | F29: 0 | G29: 5
A30: 01 a 11 meses | B30: 5 | C30: 4 | D30: 1 | E30: 25 | F30: 16 | G30: 9
A31: 01 a 04 años | B31: 28 | C31: 13 | D31: 15 | E31: 61 | F31: 31 | G31: 30
A32: 05 a 11 años | B32: 21 | C32: 9 | D32: 12 | E32: 47 | F32: 11 | G32: 36
A33: 12 a 17 años | B33: 8 | C33: 5 | D33: 3 | E33: 48 | F33: 35 | G33: 13
A34: 18 a 29 años | B34: 35 | C34: 25 | D34: 10 | E34: 92 | F34: 78 | G34: 14
A35: 30 a 59 años | B35: 114 | C35: 74 | D35: 40 | E35: 260 | F35: 183 | G35: 77
A36: 60 años a más | B36: 76 | C36: 38 | D36: 38 | E36: 279 | F36: 140 | G36: 139
A37: PS. CHALHUANCA
A38: GRUPO ETAREO | B38: ATENDIDOS | E38: ATENCIONES
B39: TOTAL | C39: F | D39: M | E39: TOTAL | F39: F | G39: M
A41: TOTAL GENERAL | B41: 90 | C41: 52 | D41: 38 | E41: 177 | F41: 103 | G41: 74
A42: < 01 mes | B42: 0 | C42: 0 | D42: 0 | E42: 0 | F42: 0 | G42: 0
A43: 01 a 11 meses | B43: 2 | C43: 0 | D43: 2 | E43: 8 | F43: 0 | G43: 8
A44: 01 a 04 años | B44: 7 | C44: 5 | D44: 2 | E44: 14 | F44: 8 | G44: 6
A45: 05 a 11 años | B45: 3 | C45: 1 | D45: 2 | E45: 3 | F45: 1 | G45: 2
A46: 12 a 17 años | B46: 7 | C46: 4 | D46: 3 | E46: 14 | F46: 11 | G46: 3
A47: 18 a 29 años | B47: 11 | C47: 10 | D47: 1 | E47: 26 | F47: 25 | G47: 1
A48: 30 a 59 años | B48: 34 | C48: 21 | D48: 13 | E48: 71 | F48: 47 | G48: 24
A49: 60 años a más | B49: 26 | C49: 11 | D49: 15 | E49: 41 | F49: 11 | G49: 30
A50: PS. COTACOTA
...

Sheet FEB
A3: NUMERO DE ATENDIDOS Y ATENCIONES AL ESTABLECIMIENTO POR SEXO
A5: Periodo: Febrero - 2026
A6: Diresa/Red/M.Red/EE.SS: AREQUIPA/AREQUIPA CAYLLOMA/CALLALLI/TODOS LOS EE.SS
A9: 1. Según Etapa de Vida:
A11: GRUPO ETAREO | B11: ATENDIDOS | E11: ATENCIONES
B12: TOTAL | C12: F | D12: M | E12: TOTAL | F12: F | G12: M
A14: TOTAL GENERAL | B14: 457 | C14: 262 | D14: 195 | E14: 2164 | F14: 1300 | G14: 864
A15: < 01 mes | B15: 0 | C15: 0 | D15: 0 | E15: 0 | F15: 0 | G15: 0
A16: 01 a 11 meses | B16: 6 | C16: 2 | D16: 4 | E16: 43 | F16: 15 | G16: 28
A17: 01 a 04 años | B17: 30 | C17: 19 | D17: 11 | E17: 147 | F17: 94 | G17: 53
A18: 05 a 11 años | B18: 36 | C18: 19 | D18: 17 | E18: 104 | F18: 58 | G18: 46
A19: 12 a 17 años | B19: 30 | C19: 20 | D19: 10 | E19: 132 | F19: 102 | G19: 30
A20: 18 a 29 años | B20: 52 | C20: 28 | D20: 24 | E20: 226 | F20: 132 | G20: 94
A21: 30 a 59 años | B21: 204 | C21: 120 | D21: 84 | E21: 813 | F21: 522 | G21: 291
A22: 60 años a más | B22: 99 | C22: 54 | D22: 45 | E22: 699 | F22: 377 | G22: 322
A23: CS. CALLALLI
A24: GRUPO ETAREO | B24: ATENDIDOS | E24: ATENCIONES
B25: TOTAL | C25: F | D25: M | E25: TOTAL | F25: F | G25: M
A27: TOTAL GENERAL | B27: 167 | C27: 104 | D27: 63 | E27: 953 | F27: 616 | G27: 337
A28: < 01 mes | B28: 0 | C28: 0 | D28: 0 | E28: 0 | F28: 0 | G28: 0
A29: 01 a 11 meses | B29: 2 | C29: 0 | D29: 2 | E29: 16 | F29: 8 | G29: 8
A30: 01 a 04 años | B30: 5 | C30: 3 | D30: 2 | E30: 48 | F30: 28 | G30: 20
A31: 05 a 11 años | B31: 11 | C31: 8 | D31: 3 | E31: 58 | F31: 38 | G31: 20
A32: 12 a 17 años | B32: 8 | C32: 6 | D32: 2 | E32: 61 | F32: 55 | G32: 6
A33: 18 a 29 años | B33: 18 | C33: 10 | D33: 8 | E33: 92 | F33: 60 | G33: 32
A34: 30 a 59 años | B34: 83 | C34: 51 | D34: 32 | E34: 308 | F34: 198 | G34: 110
A35: 60 años a más | B35: 40 | C35: 26 | D35: 14 | E35: 370 | F35: 229 | G35: 141
A36: PS. CHALHUANCA
A37: GRUPO ETAREO | B37: ATENDIDOS | E37: ATENCIONES
B38: TOTAL | C38: F | D38: M | E38: TOTAL | F38: F | G38: M
A40: TOTAL GENERAL | B40: 44 | C40: 28 | D40: 16 | E40: 147 | F40: 74 | G40: 73
A41: < 01 mes | B41: 0 | C41: 0 | D41: 0 | E41: 0 | F41: 0 | G41: 0
A42: 01 a 11 meses | B42: 1 | C42: 0 | D42: 1 | E42: 8 | F42: 0 | G42: 8
A43: 01 a 04 años | B43: 4 | C43: 2 | D43: 2 | E43: 17 | F43: 12 | G43: 5
A44: 05 a 11 años | B44: 2 | C44: 1 | D44: 1 | E44: 4 | F44: 1 | G44: 3
A45: 12 a 17 años | B45: 3 | C45: 2 | D45: 1 | E45: 10 | F45: 7 | G45: 3
A46: 18 a 29 años | B46: 1 | C46: 0 | D46: 1 | E46: 9 | F46: 7 | G46: 2
A47: 30 a 59 años | B47: 24 | C47: 19 | D47: 5 | E47: 60 | F47: 36 | G47: 24
A48: 60 años a más | B48: 9 | C48: 4 | D48: 5 | E48: 39 | F48: 11 | G48: 28
A49: PS. COTACOTA
...

Sheet MAR
A3: NUMERO DE ATENDIDOS Y ATENCIONES AL ESTABLECIMIENTO POR SEXO
A5: Periodo: MARZO - 2026
A6: Diresa/Red/M.Red/EE.SS: AREQUIPA/AREQUIPA CAYLLOMA/CALLALLI/TODOS LOS EE.SS
A9: 1. Según Etapa de Vida:
A11: GRUPO ETAREO | B11: ATENDIDOS | E11: ATENCIONES
B12: TOTAL | C12: F | D12: M | E12: TOTAL | F12: F | G12: M
A14: TOTAL GENERAL | B14: 484 | C14: 282 | D14: 202 | E14: 2333 | F14: 1441 | G14: 892
A15: < 01 mes | B15: 2 | C15: 1 | D15: 1 | E15: 7 | F15: 5 | G15: 2
A16: 01 a 11 meses | B16: 4 | C16: 3 | D16: 1 | E16: 50 | F16: 21 | G16: 29
A17: 01 a 04 años | B17: 21 | C17: 14 | D17: 7 | E17: 158 | F17: 87 | G17: 71
A18: 05 a 11 años | B18: 45 | C18: 27 | D18: 18 | E18: 124 | F18: 70 | G18: 54
A19: 12 a 17 años | B19: 35 | C19: 17 | D19: 18 | E19: 182 | F19: 111 | G19: 71
A20: 18 a 29 años | B20: 69 | C20: 41 | D20: 28 | E20: 302 | F20: 198 | G20: 104
A21: 30 a 59 años | B21: 223 | C21: 130 | D21: 93 | E21: 949 | F21: 639 | G21: 310
A22: 60 años a más | B22: 85 | C22: 49 | D22: 36 | E22: 561 | F22: 310 | G22: 251
A24: CS. CALLALLI
A25: GRUPO ETAREO | B25: ATENDIDOS | E25: ATENCIONES
B26: TOTAL | C26: F | D26: M | E26: TOTAL | F26: F | G26: M
A28: TOTAL GENERAL | B28: 161 | C28: 105 | D28: 56 | E28: 797 | F28: 519 | G28: 278
A29: < 01 mes | B29: 0 | C29: 0 | D29: 0 | E29: 0 | F29: 0 | G29: 0
A30: 01 a 11 meses | B30: 1 | C30: 1 | D30: 0 | E30: 14 | F30: 9 | G30: 5
A31: 01 a 04 años | B31: 3 | C31: 3 | D31: 0 | E31: 51 | F31: 25 | G31: 26
A32: 05 a 11 años | B32: 11 | C32: 8 | D32: 3 | E32: 46 | F32: 29 | G32: 17
A33: 12 a 17 años | B33: 13 | C33: 7 | D33: 6 | E33: 61 | F33: 41 | G33: 20
A34: 18 a 29 años | B34: 25 | C34: 20 | D34: 5 | E34: 95 | F34: 78 | G34: 17
A35: 30 a 59 años | B35: 83 | C35: 52 | D35: 31 | E35: 322 | F35: 228 | G35: 94
A36: 60 años a más | B36: 25 | C36: 14 | D36: 11 | E36: 208 | F36: 109 | G36: 99
A37: PS. CHALHUANCA
A38: GRUPO ETAREO | B38: ATENDIDOS | E38: ATENCIONES
B39: TOTAL | C39: F | D39: M | E39: TOTAL | F39: F | G39: M
A41: TOTAL GENERAL | B41: 42 | C41: 21 | D41: 21 | E41: 184 | F41: 104 | G41: 80
A42: < 01 mes | B42: 0 | C42: 0 | D42: 0 | E42: 0 | F42: 0 | G42: 0
A43: 01 a 11 meses | B43: 0 | C43: 0 | D43: 0 | E43: 4 | F43: 0 | G43: 4
A44: 01 a 04 años | B44: 2 | C44: 0 | D44: 2 | E44: 21 | F44: 8 | G44: 13
A45: 05 a 11 años | B45: 5 | C45: 2 | D45: 3 | E45: 8 | F45: 3 | G45: 5
A46: 12 a 17 años | B46: 4 | C46: 2 | D46: 2 | E46: 15 | F46: 10 | G46: 5
A47: 18 a 29 años | B47: 3 | C47: 0 | D47: 3 | E47: 17 | F47: 13 | G47: 4
A48: 30 a 59 años | B48: 21 | C48: 14 | D48: 7 | E48: 80 | F48: 54 | G48: 26
A49: 60 años a más | B49: 7 | C49: 3 | D49: 4 | E49: 39 | F49: 16 | G49: 23
A50: PS. COTACOTA
...

Sheet 1TRIM
A3: NUMERO DE ATENDIDOS Y ATENCIONES AL ESTABLECIMIENTO POR SEXO
A5: Periodo: Primer trimestre
A6: Diresa/Red/M.Red/EE.SS: AREQUIPA/AREQUIPA CAYLLOMA/MR. CALLALLI/PUESTOS DE SALUD
A9: 1. Según Etapa de Vida:
A11: GRUPO ETAREO | B11: ATENDIDOS | E11: ATENCIONES
B12: TOTAL | C12: F | D12: M | E12: TOTAL | F12: F | G12: M
A14: TOTAL GENERAL | B14: =ENE!B14+FEB!B14+MAR!#REF! -> #REF! | C14: =ENE!C14+FEB!C14+MAR!#REF! -> #REF! | D14: =ENE!D14+FEB!D14+MAR!#REF! -> #REF! | E14: =ENE!E14+FEB!E14+MAR!#REF! -> #REF! | F14: =ENE!F14+FEB!F14+MAR!#REF! -> #REF! | G14: =ENE!G14+FEB!G14+MAR!#REF! -> #REF!
A15: < 01 mes | B15: =ENE!B15+FEB!B15+MAR!#REF! -> #REF! | C15: =ENE!C15+FEB!C15+MAR!#REF! -> #REF! | D15: =ENE!D15+FEB!D15+MAR!#REF! -> #REF! | E15: =ENE!E15+FEB!E15+MAR!#REF! -> #REF! | F15: =ENE!F15+FEB!F15+MAR!#REF! -> #REF! | G15: =ENE!G15+FEB!G15+MAR!#REF! -> #REF!
A16: 01 a 11 meses | B16: =ENE!B16+FEB!B16+MAR!#REF! -> #REF! | C16: =ENE!C16+FEB!C16+MAR!#REF! -> #REF! | D16: =ENE!D16+FEB!D16+MAR!#REF! -> #REF! | E16: =ENE!E16+FEB!E16+MAR!#REF! -> #REF! | F16: =ENE!F16+FEB!F16+MAR!#REF! -> #REF! | G16: =ENE!G16+FEB!G16+MAR!#REF! -> #REF!
A17: 01 a 04 años | B17: =ENE!B17+FEB!B17+MAR!#REF! -> #REF! | C17: =ENE!C17+FEB!C17+MAR!#REF! -> #REF! | D17: =ENE!D17+FEB!D17+MAR!#REF! -> #REF! | E17: =ENE!E17+FEB!E17+MAR!#REF! -> #REF! | F17: =ENE!F17+FEB!F17+MAR!#REF! -> #REF! | G17: =ENE!G17+FEB!G17+MAR!#REF! -> #REF!
A18: 05 a 11 años | B18: =ENE!B18+FEB!B18+MAR!#REF! -> #REF! | C18: =ENE!C18+FEB!C18+MAR!#REF! -> #REF! | D18: =ENE!D18+FEB!D18+MAR!#REF! -> #REF! | E18: =ENE!E18+FEB!E18+MAR!#REF! -> #REF! | F18: =ENE!F18+FEB!F18+MAR!#REF! -> #REF! | G18: =ENE!G18+FEB!G18+MAR!#REF! -> #REF!
A19: 12 a 17 años | B19: =ENE!B19+FEB!B19+MAR!#REF! -> #REF! | C19: =ENE!C19+FEB!C19+MAR!#REF! -> #REF! | D19: =ENE!D19+FEB!D19+MAR!#REF! -> #REF! | E19: =ENE!E19+FEB!E19+MAR!#REF! -> #REF! | F19: =ENE!F19+FEB!F19+MAR!#REF! -> #REF! | G19: =ENE!G19+FEB!G19+MAR!#REF! -> #REF!
A20: 18 a 29 años | B20: =ENE!B20+FEB!B20+MAR!#REF! -> #REF! | C20: =ENE!C20+FEB!C20+MAR!#REF! -> #REF! | D20: =ENE!D20+FEB!D20+MAR!#REF! -> #REF! | E20: =ENE!E20+FEB!E20+MAR!#REF! -> #REF! | F20: =ENE!F20+FEB!F20+MAR!#REF! -> #REF! | G20: =ENE!G20+FEB!G20+MAR!#REF! -> #REF!
A21: 30 a 59 años | B21: =ENE!B21+FEB!B21+MAR!#REF! -> #REF! | C21: =ENE!C21+FEB!C21+MAR!#REF! -> #REF! | D21: =ENE!D21+FEB!D21+MAR!#REF! -> #REF! | E21: =ENE!E21+FEB!E21+MAR!#REF! -> #REF! | F21: =ENE!F21+FEB!F21+MAR!#REF! -> #REF! | G21: =ENE!G21+FEB!G21+MAR!#REF! -> #REF!
A22: 60 años a más | B22: =ENE!B22+FEB!B22+MAR!#REF! -> #REF! | C22: =ENE!C22+FEB!C22+MAR!#REF! -> #REF! | D22: =ENE!D22+FEB!D22+MAR!#REF! -> #REF! | E22: =ENE!E22+FEB!E22+MAR!#REF! -> #REF! | F22: =ENE!F22+FEB!F22+MAR!#REF! -> #REF! | G22: =ENE!G22+FEB!G22+MAR!#REF! -> #REF!

Sheet ABR
A3: NUMERO DE ATENDIDOS Y ATENCIONES AL ESTABLECIMIENTO POR SEXO
A5: Periodo: Abril - 2026
A6: Diresa/Red/M.Red/EE.SS: AREQUIPA/AREQUIPA CAYLLOMA/CALLALLI/TODOS LOS EE.SS
A9: 1. Según Etapa de Vida:
A11: GRUPO ETAREO | B11: ATENDIDOS | E11: ATENCIONES
B12: TOTAL | C12: F | D12: M | E12: TOTAL | F12: F | G12: M
A14: TOTAL GENERAL | B14: 56 | C14: 30 | D14: 26 | E14: 218 | F14: 126 | G14: 92
A15: < 01 mes | B15: 0 | C15: 0 | D15: 0 | E15: 0 | F15: 0 | G15: 0 | H15: 0
A16: 01 a 11 meses | B16: 0 | C16: 0 | D16: 0 | E16: 12 | F16: 10 | G16: 2 | H16: 2
A17: 01 a 04 años | B17: 4 | C17: 2 | D17: 2 | E17: 24 | F17: 9 | G17: 15 | H17: 15
A18: 05 a 11 años | B18: 11 | C18: 7 | D18: 4 | E18: 22 | F18: 12 | G18: 10 | H18: 10
A19: 12 a 17 años | B19: 11 | C19: 7 | D19: 4 | E19: 29 | F19: 18 | G19: 11 | H19: 11
A20: 18 a 29 años | B20: 4 | C20: 2 | D20: 2 | E20: 26 | F20: 20 | G20: 6 | H20: 6
A21: 30 a 59 años | B21: 18 | C21: 8 | D21: 10 | E21: 63 | F21: 37 | G21: 26 | H21: 26
A22: 60 años a más | B22: 8 | C22: 4 | D22: 4 | E22: 42 | F22: 20 | G22: 22 | H22: 22
A25: CS. CALLALLI
A26: GRUPO ETAREO | B26: ATENDIDOS | E26: ATENCIONES
B27: TOTAL | C27: F | D27: M | E27: TOTAL | F27: F | G27: M
A29: TOTAL GENERAL | B29: 10 | C29: 5 | D29: 5 | E29: 65 | F29: 40 | G29: 25
A30: < 01 mes | B30: 0 | C30: 0 | D30: 0 | E30: 0 | F30: 0 | G30: 0
A31: 01 a 11 meses | B31: 0 | C31: 0 | D31: 0 | E31: 5 | F31: 4 | G31: 1
A32: 01 a 04 años | B32: 0 | C32: 0 | D32: 0 | E32: 10 | F32: 0 | G32: 10
A33: 05 a 11 años | B33: 1 | C33: 1 | D33: 0 | E33: 1 | F33: 1 | G33: 0
A34: 12 a 17 años | B34: 0 | C34: 0 | D34: 0 | E34: 3 | F34: 1 | G34: 2
A35: 18 a 29 años | B35: 0 | C35: 0 | D35: 0 | E35: 17 | F35: 16 | G35: 1
A36: 30 a 59 años | B36: 4 | C36: 1 | D36: 3 | E36: 18 | F36: 12 | G36: 6
A37: 60 años a más | B37: 5 | C37: 3 | D37: 2 | E37: 11 | F37: 6 | G37: 5
A39: PS. CHALHUANCA
A40: GRUPO ETAREO | B40: ATENDIDOS | E40: ATENCIONES
B41: TOTAL | C41: F | D41: M | E41: TOTAL | F41: F | G41: M
A43: TOTAL GENERAL | B43: 13 | C43: 9 | D43: 4 | E43: 33 | F43: 18 | G43: 15
A44: < 01 mes | B44: 0 | C44: 0 | D44: 0 | E44: 0 | F44: 0 | G44: 0
A45: 01 a 11 meses | B45: 0 | C45: 0 | D45: 0 | E45: 0 | F45: 0 | G45: 0
A46: 01 a 04 años | B46: 1 | C46: 0 | D46: 1 | E46: 1 | F46: 0 | G46: 1
A47: 05 a 11 años | B47: 4 | C47: 3 | D47: 1 | E47: 8 | F47: 6 | G47: 2
A48: 12 a 17 años | B48: 3 | C48: 3 | D48: 0 | E48: 6 | F48: 5 | G48: 1
A49: 18 a 29 años | B49: 0 | C49: 0 | D49: 0 | E49: 3 | F49: 1 | G49: 2
A50: 30 a 59 años | B50: 4 | C50: 3 | D50: 1 | E50: 5 | F50: 4 | G50: 1
A51: 60 años a más | B51: 1 | C51: 0 | D51: 1 | E51: 10 | F51: 2 | G51: 8
A52: PS. COTACOTA
...

Sheet MAY
A3: NUMERO DE ATENDIDOS Y ATENCIONES AL ESTABLECIMIENTO POR SEXO
A5: Periodo: Mayo - 2026
A6: Diresa/Red/M.Red/EE.SS: AREQUIPA/AREQUIPA CAYLLOMA/CALLALLI/TODOS LOS EE.SS
A9: 1. Según Etapa de Vida:
A11: GRUPO ETAREO | B11: ATENDIDOS | E11: ATENCIONES
B12: TOTAL | C12: F | D12: M | E12: TOTAL | F12: F | G12: M
A14: TOTAL GENERAL | B14: 352 | C14: 180 | D14: 172 | E14: 2490 | F14: 1414 | G14: 1076
A15: < 01 mes | B15: 5 | C15: 1 | D15: 4 | E15: 9 | F15: 1 | G15: 8
A16: 01 a 11 meses | B16: 0 | C16: 0 | D16: 0 | E16: 46 | F16: 16 | G16: 30
A17: 01 a 04 años | B17: 6 | C17: 1 | D17: 5 | E17: 148 | F17: 89 | G17: 59
A18: 05 a 11 años | B18: 39 | C18: 17 | D18: 22 | E18: 344 | F18: 147 | G18: 197
A19: 12 a 17 años | B19: 37 | C19: 14 | D19: 23 | E19: 252 | F19: 151 | G19: 101
A20: 18 a 29 años | B20: 44 | C20: 33 | D20: 11 | E20: 258 | F20: 183 | G20: 75
A21: 30 a 59 años | B21: 135 | C21: 69 | D21: 66 | E21: 841 | F21: 536 | G21: 305
A22: 60 años a más | B22: 86 | C22: 45 | D22: 41 | E22: 592 | F22: 291 | G22: 301
A24: CS. CALLALLI
A25: GRUPO ETAREO | B25: ATENDIDOS | E25: ATENCIONES
B26: TOTAL | C26: F | D26: M | E26: TOTAL | F26: F | G26: M
A28: TOTAL GENERAL | B28: 161 | C28: 85 | D28: 76 | E28: 1111 | F28: 650 | G28: 461
A29: < 01 mes | B29: 3 | C29: 0 | D29: 3 | E29: 7 | F29: 0 | G29: 7
A30: 01 a 11 meses | B30: 0 | C30: 0 | D30: 0 | E30: 16 | F30: 8 | G30: 8
A31: 01 a 04 años | B31: 4 | C31: 1 | D31: 3 | E31: 69 | F31: 32 | G31: 37
A32: 05 a 11 años | B32: 24 | C32: 10 | D32: 14 | E32: 214 | F32: 97 | G32: 117
A33: 12 a 17 años | B33: 15 | C33: 2 | D33: 13 | E33: 88 | F33: 48 | G33: 40
A34: 18 a 29 años | B34: 18 | C34: 16 | D34: 2 | E34: 100 | F34: 85 | G34: 15
A35: 30 a 59 años | B35: 65 | C35: 39 | D35: 26 | E35: 366 | F35: 261 | G35: 105
A36: 60 años a más | B36: 32 | C36: 17 | D36: 15 | E36: 251 | F36: 119 | G36: 132
A39: P.S. CHALHUANCA
A40: GRUPO ETAREO | B40: ATENDIDOS | E40: ATENCIONES
B41: TOTAL | C41: F | D41: M | E41: TOTAL | F41: F | G41: M
A43: TOTAL GENERAL | B43: 41 | C43: 28 | D43: 13 | E43: 153 | F43: 90 | G43: 63
A44: < 01 mes | B44: 1 | C44: 1 | D44: 0 | E44: 1 | F44: 1 | G44: 0
A45: 01 a 11 meses | B45: 0 | C45: 0 | D45: 0 | E45: 8 | F45: 0 | G45: 8
A46: 01 a 04 años | B46: 0 | C46: 0 | D46: 0 | E46: 5 | F46: 3 | G46: 2
A47: 05 a 11 años | B47: 0 | C47: 0 | D47: 0 | E47: 2 | F47: 0 | G47: 2
A48: 12 a 17 años | B48: 9 | C48: 6 | D48: 3 | E48: 32 | F48: 23 | G48: 9
A49: 18 a 29 años | B49: 5 | C49: 5 | D49: 0 | E49: 13 | F49: 13 | G49: 0
A50: 30 a 59 años | B50: 12 | C50: 8 | D50: 4 | E50: 41 | F50: 28 | G50: 13
A51: 60 años a más | B51: 14 | C51: 8 | D51: 6 | E51: 51 | F51: 22 | G51: 29
A53: P.S. COTACOTA
...

Sheet JUN
A3: NUMERO DE ATENDIDOS Y ATENCIONES AL ESTABLECIMIENTO POR SEXO
A5: Periodo: Junio - 2026
A6: Diresa/Red/M.Red/EE.SS: AREQUIPA/AREQUIPA CAYLLOMA/CALLALLI/TODOS LOS EE.SS
A9: 1. Según Etapa de Vida:
A11: GRUPO ETAREO | B11: ATENDIDOS | E11: ATENCIONES
B12: TOTAL | C12: F | D12: M | E12: TOTAL | F12: F | G12: M
A14: TOTAL GENERAL | B14: 409 | C14: 243 | D14: 186 | E14: 3409 | F14: 1951 | G14: 1078
A15: < 01 mes | B15: 2 | C15: 2 | D15: 0 | E15: 12 | F15: 8 | G15: 4
A16: 01 a 11 meses | B16: 4 | C16: 2 | D16: 2 | E16: 66 | F16: 23 | G16: 43
A17: 01 a 04 años | B17: 6 | C17: 3 | D17: 3 | E17: 209 | F17: 118 | G17: 91
A18: 05 a 11 años | B18: 29 | C18: 14 | D18: 15 | E18: 386 | F18: 175 | G18: 211
A19: 12 a 17 años | B19: 48 | C19: 23 | D19: 25 | E19: 327 | F19: 181 | G19: 146
A20: 18 a 29 años | B20: 60 | C20: 39 | D20: 21 | E20: 380 | F20: 259 | G20: 121
A21: 30 a 59 años | B21: 170 | C21: 102 | D21: 68 | E21: 1144 | F21: 727 | G21: 417
A22: 60 años a más | B22: 110 | C22: 58 | D22: 52 | E22: 885 | F22: 460 | G22: 425
A23: CS. CALLALLI
A24: GRUPO ETAREO | B24: ATENDIDOS | E24: ATENCIONES
B25: TOTAL | C25: F | D25: M | E25: TOTAL | F25: F | G25: M
A27: TOTAL GENERAL | B27: 247 | C27: 151 | D27: 96 | E27: 1152 | F27: 796 | G27: 486
A28: < 01 mes | B28: 2 | C28: 2 | D28: 0 | E28: 9 | F28: 5 | G28: 4
A29: 01 a 11 meses | B29: 2 | C29: 1 | D29: 1 | E29: 24 | F29: 8 | G29: 16
A30: 01 a 04 años | B30: 4 | C30: 3 | D30: 1 | E30: 93 | F30: 48 | G30: 45
A31: 05 a 11 años | B31: 17 | C31: 8 | D31: 9 | E31: 111 | F31: 54 | G31: 57
A32: 12 a 17 años | B32: 24 | C32: 12 | D32: 12 | E32: 54 | F32: 31 | G32: 23
A33: 18 a 29 años | B33: 35 | C33: 26 | D33: 9 | E33: 122 | F33: 95 | G33: 27
A34: 30 a 59 años | B34: 105 | C34: 67 | D34: 38 | E34: 475 | F34: 320 | G34: 155
A35: 60 años a más | B35: 58 | C35: 32 | D35: 26 | E35: 394 | F35: 235 | G35: 159
A36: PS. CHALHUANCA
A37: GRUPO ETAREO | B37: ATENDIDOS | E37: ATENCIONES
B38: TOTAL | C38: F | D38: M | E38: TOTAL | F38: F | G38: M
A40: TOTAL GENERAL | C40: 18 | D40: 13 | E40: 342 | F40: 208 | G40: 134
A41: < 01 mes | C41: 0 | D41: 0 | E41: 3 | F41: 3 | G41: 0
A42: 01 a 11 meses | C42: 0 | D42: 0 | E42: 7 | F42: 1 | G42: 6
A43: 01 a 04 años | C43: 0 | D43: 0 | E43: 28 | F43: 13 | G43: 15
A44: 05 a 11 años | B44: 6.9986e+18 | C44: 2 | D44: 1 | E44: 27 | F44: 15 | G44: 12
A45: 12 a 17 años | B45: 2.3214e+18 | C45: 2 | D45: 1 | E45: 62 | F45: 47 | G45: 15
A46: 18 a 29 años | B46: 2.3219e+18 | C46: 3 | D46: 5 | E46: 39 | F46: 32 | G46: 7
A47: 30 a 59 años | B47: 2.3219e+18 | C47: 5 | D47: 1 | E47: 88 | F47: 54 | G47: 34
A48: 60 años a más | B48: 8.314e+18 | C48: 6 | D48: 5 | E48: 88 | F48: 43 | G48: 45
A49: PS. COTACOTA
...

Sheet 2TRIM
A3: NUMERO DE ATENDIDOS Y ATENCIONES AL ESTABLECIMIENTO POR SEXO
A5: Periodo: Segundo Trimestre
A6: Diresa/Red/M.Red/EE.SS: AREQUIPA/AREQUIPA CAYLLOMA/TODAS LAS MICRO REDES/TODOS LOS EE.SS
A9: 1. Según Etapa de Vida:
A11: GRUPO ETAREO | B11: ATENDIDOS | E11: ATENCIONES
B12: TOTAL | C12: F | D12: M | E12: TOTAL | F12: F | G12: M
A14: TOTAL GENERAL | B14: =ABR!B14+MAY!#REF!+JUN!B14 -> #REF! | C14: =ABR!C14+MAY!#REF!+JUN!C14 -> #REF! | D14: =ABR!D14+MAY!#REF!+JUN!D14 -> #REF! | E14: =ABR!E14+MAY!#REF!+JUN!E14 -> #REF! | F14: =ABR!F14+MAY!#REF!+JUN!F14 -> #REF! | G14: =ABR!G14+MAY!#REF!+JUN!G14 -> #REF!
A15: < 01 mes | B15: =ABR!B15+MAY!#REF!+JUN!B15 -> #REF! | C15: =ABR!C15+MAY!#REF!+JUN!C15 -> #REF! | D15: =ABR!D15+MAY!#REF!+JUN!D15 -> #REF! | E15: =ABR!E15+MAY!#REF!+JUN!E15 -> #REF! | F15: =ABR!F15+MAY!#REF!+JUN!F15 -> #REF! | G15: =ABR!G15+MAY!#REF!+JUN!G15 -> #REF!
A16: 01 a 11 meses | B16: =ABR!B16+MAY!#REF!+JUN!B16 -> #REF! | C16: =ABR!C16+MAY!#REF!+JUN!C16 -> #REF! | D16: =ABR!D16+MAY!#REF!+JUN!D16 -> #REF! | E16: =ABR!E16+MAY!#REF!+JUN!E16 -> #REF! | F16: =ABR!F16+MAY!#REF!+JUN!F16 -> #REF! | G16: =ABR!G16+MAY!#REF!+JUN!G16 -> #REF!
A17: 01 a 04 años | B17: =ABR!B17+MAY!#REF!+JUN!B17 -> #REF! | C17: =ABR!C17+MAY!#REF!+JUN!C17 -> #REF! | D17: =ABR!D17+MAY!#REF!+JUN!D17 -> #REF! | E17: =ABR!E17+MAY!#REF!+JUN!E17 -> #REF! | F17: =ABR!F17+MAY!#REF!+JUN!F17 -> #REF! | G17: =ABR!G17+MAY!#REF!+JUN!G17 -> #REF!
A18: 05 a 11 años | B18: =ABR!B18+MAY!#REF!+JUN!B18 -> #REF! | C18: =ABR!C18+MAY!#REF!+JUN!C18 -> #REF! | D18: =ABR!D18+MAY!#REF!+JUN!D18 -> #REF! | E18: =ABR!E18+MAY!#REF!+JUN!E18 -> #REF! | F18: =ABR!F18+MAY!#REF!+JUN!F18 -> #REF! | G18: =ABR!G18+MAY!#REF!+JUN!G18 -> #REF!
A19: 12 a 17 años | B19: =ABR!B19+MAY!#REF!+JUN!B19 -> #REF! | C19: =ABR!C19+MAY!#REF!+JUN!C19 -> #REF! | D19: =ABR!D19+MAY!#REF!+JUN!D19 -> #REF! | E19: =ABR!E19+MAY!#REF!+JUN!E19 -> #REF! | F19: =ABR!F19+MAY!#REF!+JUN!F19 -> #REF! | G19: =ABR!G19+MAY!#REF!+JUN!G19 -> #REF!
A20: 18 a 29 años | B20: =ABR!B20+MAY!#REF!+JUN!B20 -> #REF! | C20: =ABR!C20+MAY!#REF!+JUN!C20 -> #REF! | D20: =ABR!D20+MAY!#REF!+JUN!D20 -> #REF! | E20: =ABR!E20+MAY!#REF!+JUN!E20 -> #REF! | F20: =ABR!F20+MAY!#REF!+JUN!F20 -> #REF! | G20: =ABR!G20+MAY!#REF!+JUN!G20 -> #REF!
A21: 30 a 59 años | B21: =ABR!B21+MAY!#REF!+JUN!B21 -> #REF! | C21: =ABR!C21+MAY!#REF!+JUN!C21 -> #REF! | D21: =ABR!D21+MAY!#REF!+JUN!D21 -> #REF! | E21: =ABR!E21+MAY!#REF!+JUN!E21 -> #REF! | F21: =ABR!F21+MAY!#REF!+JUN!F21 -> #REF! | G21: =ABR!G21+MAY!#REF!+JUN!G21 -> #REF!
A22: 60 años a más | B22: =ABR!B22+MAY!#REF!+JUN!B22 -> #REF! | C22: =ABR!C22+MAY!#REF!+JUN!C22 -> #REF! | D22: =ABR!D22+MAY!#REF!+JUN!D22 -> #REF! | E22: =ABR!E22+MAY!#REF!+JUN!E22 -> #REF! | F22: =ABR!F22+MAY!#REF!+JUN!F22 -> #REF! | G22: =ABR!G22+MAY!#REF!+JUN!G22 -> #REF!

Sheet 1SEM
A3: NUMERO DE ATENDIDOS Y ATENCIONES AL ESTABLECIMIENTO POR SEXO
A5: Periodo: Primer Semestre
A6: Diresa/Red/M.Red/EE.SS: AREQUIPA/AREQUIPA CAYLLOMA/TODAS LAS MICRO REDES/TODOS LOS EE.SS
A9: 1. Según Etapa de Vida:
A11: GRUPO ETAREO | B11: ATENDIDOS | E11: ATENCIONES
B12: TOTAL | C12: F | D12: M | E12: TOTAL | F12: F | G12: M
A14: TOTAL GENERAL | B14: ='1TRIM'!B14+'2TRIM'!B14 -> #REF! | C14: ='1TRIM'!C14+'2TRIM'!C14 -> #REF! | D14: ='1TRIM'!D14+'2TRIM'!D14 -> #REF! | E14: ='1TRIM'!E14+'2TRIM'!E14 -> #REF! | F14: ='1TRIM'!F14+'2TRIM'!F14 -> #REF! | G14: ='1TRIM'!G14+'2TRIM'!G14 -> #REF!
A15: < 01 mes | B15: ='1TRIM'!B15+'2TRIM'!B15 -> #REF! | C15: ='1TRIM'!C15+'2TRIM'!C15 -> #REF! | D15: ='1TRIM'!D15+'2TRIM'!D15 -> #REF! | E15: ='1TRIM'!E15+'2TRIM'!E15 -> #REF! | F15: ='1TRIM'!F15+'2TRIM'!F15 -> #REF! | G15: ='1TRIM'!G15+'2TRIM'!G15 -> #REF!
A16: 01 a 11 meses | B16: ='1TRIM'!B16+'2TRIM'!B16 -> #REF! | C16: ='1TRIM'!C16+'2TRIM'!C16 -> #REF! | D16: ='1TRIM'!D16+'2TRIM'!D16 -> #REF! | E16: ='1TRIM'!E16+'2TRIM'!E16 -> #REF! | F16: ='1TRIM'!F16+'2TRIM'!F16 -> #REF! | G16: ='1TRIM'!G16+'2TRIM'!G16 -> #REF!
A17: 01 a 04 años | B17: ='1TRIM'!B17+'2TRIM'!B17 -> #REF! | C17: ='1TRIM'!C17+'2TRIM'!C17 -> #REF! | D17: ='1TRIM'!D17+'2TRIM'!D17 -> #REF! | E17: ='1TRIM'!E17+'2TRIM'!E17 -> #REF! | F17: ='1TRIM'!F17+'2TRIM'!F17 -> #REF! | G17: ='1TRIM'!G17+'2TRIM'!G17 -> #REF!
A18: 05 a 11 años | B18: ='1TRIM'!B18+'2TRIM'!B18 -> #REF! | C18: ='1TRIM'!C18+'2TRIM'!C18 -> #REF! | D18: ='1TRIM'!D18+'2TRIM'!D18 -> #REF! | E18: ='1TRIM'!E18+'2TRIM'!E18 -> #REF! | F18: ='1TRIM'!F18+'2TRIM'!F18 -> #REF! | G18: ='1TRIM'!G18+'2TRIM'!G18 -> #REF!
A19: 12 a 17 años | B19: ='1TRIM'!B19+'2TRIM'!B19 -> #REF! | C19: ='1TRIM'!C19+'2TRIM'!C19 -> #REF! | D19: ='1TRIM'!D19+'2TRIM'!D19 -> #REF! | E19: ='1TRIM'!E19+'2TRIM'!E19 -> #REF! | F19: ='1TRIM'!F19+'2TRIM'!F19 -> #REF! | G19: ='1TRIM'!G19+'2TRIM'!G19 -> #REF!
A20: 18 a 29 años | B20: ='1TRIM'!B20+'2TRIM'!B20 -> #REF! | C20: ='1TRIM'!C20+'2TRIM'!C20 -> #REF! | D20: ='1TRIM'!D20+'2TRIM'!D20 -> #REF! | E20: ='1TRIM'!E20+'2TRIM'!E20 -> #REF! | F20: ='1TRIM'!F20+'2TRIM'!F20 -> #REF! | G20: ='1TRIM'!G20+'2TRIM'!G20 -> #REF!
A21: 30 a 59 años | B21: ='1TRIM'!B21+'2TRIM'!B21 -> #REF! | C21: ='1TRIM'!C21+'2TRIM'!C21 -> #REF! | D21: ='1TRIM'!D21+'2TRIM'!D21 -> #REF! | E21: ='1TRIM'!E21+'2TRIM'!E21 -> #REF! | F21: ='1TRIM'!F21+'2TRIM'!F21 -> #REF! | G21: ='1TRIM'!G21+'2TRIM'!G21 -> #REF!
A22: 60 años a más | B22: ='1TRIM'!B22+'2TRIM'!B22 -> #REF! | C22: ='1TRIM'!C22+'2TRIM'!C22 -> #REF! | D22: ='1TRIM'!D22+'2TRIM'!D22 -> #REF! | E22: ='1TRIM'!E22+'2TRIM'!E22 -> #REF! | F22: ='1TRIM'!F22+'2TRIM'!F22 -> #REF! | G22: ='1TRIM'!G22+'2TRIM'!G22 -> #REF!

Sheet JUL
A3: NUMERO DE ATENDIDOS Y ATENCIONES AL ESTABLECIMIENTO POR SEXO
A5: Periodo: Julio - 2026
A6: Diresa/Red/M.Red/EE.SS: AREQUIPA/AREQUIPA CAYLLOMA/CALLALLI/TODOS LOS EE.SS
A9: 1. Según Etapa de Vida:
A11: GRUPO ETAREO | B11: ATENDIDOS | E11: ATENCIONES
B12: TOTAL | C12: F | D12: M | E12: TOTAL | F12: F | G12: M
A14: TOTAL GENERAL | B14: 294 | C14: 164 | D14: 130 | E14: 2953 | F14: 1732 | G14: 1221
A15: < 01 mes | B15: 2 | C15: 0 | D15: 2 | E15: 11 | F15: 0 | G15: 11
A16: 01 a 11 meses | B16: 1 | C16: 0 | D16: 1 | E16: 58 | F16: 21 | G16: 37
A17: 01 a 04 años | B17: 6 | C17: 4 | D17: 2 | E17: 203 | F17: 127 | G17: 76
A18: 05 a 11 años | B18: 9 | C18: 5 | D18: 4 | E18: 173 | F18: 63 | G18: 110
A19: 12 a 17 años | B19: 14 | C19: 6 | D19: 8 | E19: 369 | F19: 237 | G19: 132
A20: 18 a 29 años | B20: 39 | C20: 23 | D20: 16 | E20: 315 | F20: 221 | G20: 94
A21: 30 a 59 años | B21: 147 | C21: 86 | D21: 61 | E21: 1105 | F21: 694 | G21: 411
A22: 60 años a más | B22: 76 | C22: 40 | D22: 36 | E22: 719 | F22: 369 | G22: 350
A24: CS. CALLALLI
A25: GRUPO ETAREO | B25: ATENDIDOS | E25: ATENCIONES
B26: TOTAL | C26: F | D26: M | E26: TOTAL | F26: F | G26: M
A28: TOTAL GENERAL | B28: 154 | C28: 97 | D28: 57 | E28: 1113 | F28: 675 | G28: 438
A29: < 01 mes | B29: 1 | C29: 0 | D29: 1 | E29: 6 | F29: 0 | G29: 6
A30: 01 a 11 meses | B30: 1 | C30: 0 | D30: 1 | E30: 17 | F30: 2 | G30: 15
A31: 01 a 04 años | B31: 5 | C31: 3 | D31: 2 | E31: 82 | F31: 46 | G31: 36
A32: 05 a 11 años | B32: 2 | C32: 1 | D32: 1 | E32: 41 | F32: 17 | G32: 24
A33: 12 a 17 años | B33: 5 | C33: 2 | D33: 3 | E33: 185 | F33: 117 | G33: 68
A34: 18 a 29 años | B34: 24 | C34: 14 | D34: 10 | E34: 102 | F34: 72 | G34: 30
A35: 30 a 59 años | B35: 81 | C35: 56 | D35: 25 | E35: 410 | F35: 261 | G35: 149
A36: 60 años a más | B36: 35 | C36: 21 | D36: 14 | E36: 270 | F36: 160 | G36: 110
A39: P.S. CHALHUANCA
A40: GRUPO ETAREO | B40: ATENDIDOS | E40: ATENCIONES
B41: TOTAL | C41: F | D41: M | E41: TOTAL | F41: F | G41: M
A43: TOTAL GENERAL | C43: 18 | D43: 18 | E43: 316 | F43: 195 | G43: 121
A44: < 01 mes | B44: 0 | C44: 0 | D44: 0 | E44: 0 | F44: 0 | G44: 0
A45: 01 a 11 meses | B45: 0 | C45: 0 | D45: 0 | E45: 7 | F45: 3 | G45: 4
A46: 01 a 04 años | B46: 0 | C46: 0 | D46: 0 | E46: 22 | F46: 13 | G46: 9
A47: 05 a 11 años | B47: 6.9986e+18 | C47: 1 | D47: 0 | E47: 13 | F47: 6 | G47: 7
A48: 12 a 17 años | B48: 2.3214e+18 | C48: 1 | D48: 0 | E48: 37 | F48: 31 | G48: 6
A49: 18 a 29 años | B49: 2.3219e+18 | C49: 0 | D49: 1 | E49: 20 | F49: 16 | G49: 4
A50: 30 a 59 años | B50: 2.3219e+18 | C50: 10 | D50: 10 | E50: 128 | F50: 89 | G50: 39
A51: 60 años a más | B51: 8.314e+18 | C51: 6 | D51: 7 | E51: 89 | F51: 37 | G51: 52
A53: P.S. COTACOTA
...

Sheet AGO
A3: NUMERO DE ATENDIDOS Y ATENCIONES AL ESTABLECIMIENTO POR SEXO
A5: Periodo: Agosto - 2026
A6: Diresa/Red/M.Red/EE.SS: AREQUIPA/AREQUIPA CAYLLOMA/CALLALLI/TODOS LOS EE.SS
A9: 1. Según Etapa de Vida:
A11: GRUPO ETAREO | B11: ATENDIDOS | E11: ATENCIONES
B12: TOTAL | C12: F | D12: M | E12: TOTAL | F12: F | G12: M
A14: TOTAL GENERAL | B14: 187 | C14: 96 | D14: 88 | E14: 2660 | F14: 1603 | G14: 1057
A15: < 01 mes | B15: 0 | C15: 0 | D15: 0 | E15: 1 | F15: 0 | G15: 1
A16: 01 a 11 meses | B16: 1 | C16: 0 | D16: 1 | E16: 47 | F16: 20 | G16: 27
A17: 01 a 04 años | B17: 0 | C17: 0 | D17: 0 | E17: 146 | F17: 91 | G17: 55
A18: 05 a 11 años | B18: 6 | C18: 4 | D18: 2 | E18: 212 | F18: 99 | G18: 113
A19: 12 a 17 años | B19: 6 | C19: 2 | D19: 4 | E19: 235 | F19: 143 | G19: 92
A20: 18 a 29 años | B20: 36 | C20: 18 | D20: 18 | E20: 246 | F20: 168 | G20: 78
A21: 30 a 59 años | B21: 75 | C21: 44 | D21: 31 | E21: 889 | F21: 591 | G21: 298
A22: 60 años a más | B22: 60 | C22: 28 | D22: 32 | E22: 884 | F22: 491 | G22: 393
A24: CS. CALLALLI
A25: GRUPO ETAREO | B25: ATENDIDOS | E25: ATENCIONES
B26: TOTAL | C26: F | D26: M | E26: TOTAL | F26: F | G26: M
A28: TOTAL GENERAL | B28: 95 | C28: 57 | D28: 38 | E28: 1036 | F28: 685 | G28: 351
A29: < 01 mes | B29: 0 | C29: 0 | D29: 0 | E29: 0 | F29: 0 | G29: 0
A30: 01 a 11 meses | B30: 1 | C30: 0 | D30: 1 | E30: 20 | F30: 9 | G30: 11
A31: 01 a 04 años | B31: 0 | C31: 0 | D31: 0 | E31: 47 | F31: 27 | G31: 20
A32: 05 a 11 años | B32: 1 | C32: 1 | D32: 0 | E32: 48 | F32: 24 | G32: 24
A33: 12 a 17 años | B33: 3 | C33: 2 | D33: 1 | E33: 56 | F33: 43 | G33: 13
A34: 18 a 29 años | B34: 17 | C34: 9 | D34: 8 | E34: 97 | F34: 65 | G34: 32
A35: 30 a 59 años | B35: 41 | C35: 27 | D35: 14 | E35: 361 | F35: 267 | G35: 94
A36: 60 años a más | B36: 32 | C36: 18 | D36: 14 | E36: 407 | F36: 250 | G36: 157
A38: PS. CHALHUANCA
A39: GRUPO ETAREO | B39: ATENDIDOS | E39: ATENCIONES
B40: TOTAL | C40: F | D40: M | E40: TOTAL | F40: F | G40: M
A42: TOTAL GENERAL | B42: 15 | C42: 4 | D42: 11 | E42: 295 | F42: 151 | G42: 144
A43: < 01 mes | B43: 0 | C43: 0 | D43: 0 | E43: 0 | F43: 0 | G43: 0
A44: 01 a 11 meses | B44: 0 | C44: 0 | D44: 0 | E44: 4 | F44: 2 | G44: 2
A45: 01 a 04 años | B45: 0 | C45: 0 | D45: 0 | E45: 24 | F45: 8 | G45: 16
A46: 05 a 11 años | B46: 1 | C46: 0 | D46: 1 | E46: 15 | F46: 6 | G46: 9
A47: 12 a 17 años | B47: 3 | C47: 0 | D47: 3 | E47: 30 | F47: 13 | G47: 17
A48: 18 a 29 años | B48: 3 | C48: 2 | D48: 1 | E48: 34 | F48: 29 | G48: 5
A49: 30 a 59 años | B49: 4 | C49: 1 | D49: 3 | E49: 100 | F49: 58 | G49: 42
A50: 60 años a más | B50: 4 | C50: 1 | D50: 3 | E50: 88 | F50: 35 | G50: 53
A52: PS. COTACOTA
...

Sheet SET
A3: NUMERO DE ATENDIDOS Y ATENCIONES AL ESTABLECIMIENTO POR SEXO
A5: Periodo: Septiembre - 2026
A6: Diresa/Red/M.Red/EE.SS: AREQUIPA/AREQUIPA CAYLLOMA/CALLALLI/TODOS LOS EE.SS
A9: 1. Según Etapa de Vida:
A11: GRUPO ETAREO | B11: ATENDIDOS | E11: ATENCIONES
B12: TOTAL | C12: F | D12: M | E12: TOTAL | F12: F | G12: M
A14: TOTAL GENERAL | B14: 187 | C14: 94 | D14: 87 | E14: 2344 | F14: 1378 | G14: 954
A15: < 01 mes | B15: 3 | C15: 3 | D15: 0 | E15: 16 | F15: 16 | G15: 0
A16: 01 a 11 meses | B16: 1 | C16: 0 | D16: 1 | E16: 57 | F16: 21 | G16: 36
A17: 01 a 04 años | B17: 1 | C17: 0 | D17: 1 | E17: 153 | F17: 89 | G17: 64
A18: 05 a 11 años | B18: 4 | C18: 4 | D18: 0 | E18: 219 | F18: 95 | G18: 124
A19: 12 a 17 años | B19: 6 | C19: 1 | D19: 5 | E19: 220 | F19: 145 | G19: 75
A20: 18 a 29 años | B20: 36 | C20: 13 | D20: 22 | E20: 335 | F20: 213 | G20: 121
A21: 30 a 59 años | B21: 99 | C21: 52 | D21: 44 | E21: 825 | F21: 525 | G21: 292
A22: 60 años a más | B22: 37 | C22: 21 | D22: 14 | E22: 519 | F22: 274 | G22: 242
A24: CS. CALLALLI
A25: GRUPO ETAREO | B25: ATENDIDOS | E25: ATENCIONES
B26: TOTAL | C26: F | D26: M | E26: TOTAL | F26: F | G26: M
A28: TOTAL GENERAL | B28: 69 | C28: 40 | D28: 23 | E28: 721 | F28: 434 | G28: 275
A29: < 01 mes | B29: 2 | C29: 2 | D29: 0 | E29: 8 | F29: 8 | G29: 0
A30: 01 a 11 meses | B30: 0 | C30: 0 | D30: 0 | E30: 25 | F30: 8 | G30: 17
A31: 01 a 04 años | B31: 0 | C31: 0 | D31: 0 | E31: 44 | F31: 23 | G31: 21
A32: 05 a 11 años | B32: 1 | C32: 1 | D32: 0 | E32: 53 | F32: 24 | G32: 29
A33: 12 a 17 años | B33: 2 | C33: 1 | D33: 1 | E33: 53 | F33: 38 | G33: 15
A34: 18 a 29 años | B34: 11 | C34: 6 | D34: 4 | E34: 83 | F34: 57 | G34: 25
A35: 30 a 59 años | B35: 41 | C35: 23 | D35: 15 | E35: 272 | F35: 175 | G35: 89
A36: 60 años a más | B36: 12 | C36: 7 | D36: 3 | E36: 183 | F36: 101 | G36: 79
A37: PS. CHALHUANCA
A38: GRUPO ETAREO | B38: ATENDIDOS | E38: ATENCIONES
B39: TOTAL | C39: F | D39: M | E39: TOTAL | F39: F | G39: M
A41: TOTAL GENERAL | C41: 7 | D41: 11 | E41: 356 | F41: 190 | G41: 166
A42: < 01 mes | C42: 0 | D42: 0 | E42: 0 | F42: 0 | G42: 0
A43: 01 a 11 meses | C43: 0 | D43: 0 | E43: 6 | F43: 2 | G43: 4
A44: 01 a 04 años | C44: 0 | D44: 0 | E44: 30 | F44: 14 | G44: 16
A45: 05 a 11 años | C45: 0 | D45: 0 | E45: 30 | F45: 9 | G45: 21
A46: 12 a 17 años | B46: 2.3214e+18 | C46: 0 | D46: 2 | E46: 33 | F46: 20 | G46: 13
A47: 18 a 29 años | B47: 2.3219e+18 | C47: 0 | D47: 1 | E47: 43 | F47: 31 | G47: 12
A48: 30 a 59 años | B48: 2.3219e+18 | C48: 3 | D48: 4 | E48: 128 | F48: 84 | G48: 44
A49: 60 años a más | B49: 8.314e+18 | C49: 4 | D49: 4 | E49: 86 | F49: 30 | G49: 56
A50: PS. COTACOTA
...

Sheet 3TRIM
A3: NUMERO DE ATENDIDOS Y ATENCIONES AL ESTABLECIMIENTO POR SEXO
A5: Periodo: Tercer Trimestre
A6: Diresa/Red/M.Red/EE.SS: AREQUIPA/AREQUIPA CAYLLOMA/TODAS LAS MICRO REDES/TODOS LOS EE.SS
A9: 1. Según Etapa de Vida:
A11: GRUPO ETAREO | B11: ATENDIDOS | E11: ATENCIONES
B12: TOTAL | C12: F | D12: M | E12: TOTAL | F12: F | G12: M
A14: TOTAL GENERAL | B14: =JUL!B14+AGO!B14+SET!B14 -> 668 | C14: =JUL!C14+AGO!C14+SET!C14 -> 354 | D14: =JUL!D14+AGO!D14+SET!D14 -> 305 | E14: =JUL!E14+AGO!E14+SET!E14 -> 7957 | F14: =JUL!F14+AGO!F14+SET!F14 -> 4713 | G14: =JUL!G14+AGO!G14+SET!G14 -> 3232
A15: < 01 mes | B15: =JUL!B15+AGO!B15+SET!B15 -> 5 | C15: =JUL!C15+AGO!C15+SET!C15 -> 3 | D15: =JUL!D15+AGO!D15+SET!D15 -> 2 | E15: =JUL!E15+AGO!E15+SET!E15 -> 28 | F15: =JUL!F15+AGO!F15+SET!F15 -> 16 | G15: =JUL!G15+AGO!G15+SET!G15 -> 12
A16: 01 a 11 meses | B16: =JUL!B16+AGO!B16+SET!B16 -> 3 | C16: =JUL!C16+AGO!C16+SET!C16 -> 0 | D16: =JUL!D16+AGO!D16+SET!D16 -> 3 | E16: =JUL!E16+AGO!E16+SET!E16 -> 162 | F16: =JUL!F16+AGO!F16+SET!F16 -> 62 | G16: =JUL!G16+AGO!G16+SET!G16 -> 100
A17: 01 a 04 años | B17: =JUL!B17+AGO!B17+SET!B17 -> 7 | C17: =JUL!C17+AGO!C17+SET!C17 -> 4 | D17: =JUL!D17+AGO!D17+SET!D17 -> 3 | E17: =JUL!E17+AGO!E17+SET!E17 -> 502 | F17: =JUL!F17+AGO!F17+SET!F17 -> 307 | G17: =JUL!G17+AGO!G17+SET!G17 -> 195
A18: 05 a 11 años | B18: =JUL!B18+AGO!B18+SET!B18 -> 19 | C18: =JUL!C18+AGO!C18+SET!C18 -> 13 | D18: =JUL!D18+AGO!D18+SET!D18 -> 6 | E18: =JUL!E18+AGO!E18+SET!E18 -> 604 | F18: =JUL!F18+AGO!F18+SET!F18 -> 257 | G18: =JUL!G18+AGO!G18+SET!G18 -> 347
A19: 12 a 17 años | B19: =JUL!B19+AGO!B19+SET!B19 -> 26 | C19: =JUL!C19+AGO!C19+SET!C19 -> 9 | D19: =JUL!D19+AGO!D19+SET!D19 -> 17 | E19: =JUL!E19+AGO!E19+SET!E19 -> 824 | F19: =JUL!F19+AGO!F19+SET!F19 -> 525 | G19: =JUL!G19+AGO!G19+SET!G19 -> 299
A20: 18 a 29 años | B20: =JUL!B20+AGO!B20+SET!B20 -> 111 | C20: =JUL!C20+AGO!C20+SET!C20 -> 54 | D20: =JUL!D20+AGO!D20+SET!D20 -> 56 | E20: =JUL!E20+AGO!E20+SET!E20 -> 896 | F20: =JUL!F20+AGO!F20+SET!F20 -> 602 | G20: =JUL!G20+AGO!G20+SET!G20 -> 293
A21: 30 a 59 años | B21: =JUL!B21+AGO!B21+SET!B21 -> 321 | C21: =JUL!C21+AGO!C21+SET!C21 -> 182 | D21: =JUL!D21+AGO!D21+SET!D21 -> 136 | E21: =JUL!E21+AGO!E21+SET!E21 -> 2819 | F21: =JUL!F21+AGO!F21+SET!F21 -> 1810 | G21: =JUL!G21+AGO!G21+SET!G21 -> 1001
A22: 60 años a más | B22: =JUL!B22+AGO!B22+SET!B22 -> 173 | C22: =JUL!C22+AGO!C22+SET!C22 -> 89 | D22: =JUL!D22+AGO!D22+SET!D22 -> 82 | E22: =JUL!E22+AGO!E22+SET!E22 -> 2122 | F22: =JUL!F22+AGO!F22+SET!F22 -> 1134 | G22: =JUL!G22+AGO!G22+SET!G22 -> 985

Sheet OCT
A3: NUMERO DE ATENDIDOS Y ATENCIONES AL ESTABLECIMIENTO POR SEXO
A5: Periodo: Octubre - 2026
A6: Diresa/Red/M.Red/EE.SS: AREQUIPA/AREQUIPA CAYLLOMA/CALLALLI/TODOS LOS EE.SS
A9: 1. Según Etapa de Vida:
A11: GRUPO ETAREO | B11: ATENDIDOS | E11: ATENCIONES
B12: TOTAL | C12: F | D12: M | E12: TOTAL | F12: F | G12: M
A14: TOTAL GENERAL
A15: < 01 mes
A16: 01 a 11 meses
A17: 01 a 04 años
A18: 05 a 11 años
A19: 12 a 17 años
A20: 18 a 29 años
A21: 30 a 59 años
A22: 60 años a más
A23: CS. CALLALLI
A24: GRUPO ETAREO | B24: ATENDIDOS | E24: ATENCIONES
B25: TOTAL | C25: F | D25: M | E25: TOTAL | F25: F | G25: M
A27: TOTAL GENERAL
A28: < 01 mes
A29: 01 a 11 meses
A30: 01 a 04 años
A31: 05 a 11 años
A32: 12 a 17 años
A33: 18 a 29 años
A34: 30 a 59 años
A35: 60 años a más
A36: PS. CHALHUANCA
A37: GRUPO ETAREO | B37: ATENDIDOS | E37: ATENCIONES
B38: TOTAL | C38: F | D38: M | E38: TOTAL | F38: F | G38: M
A40: TOTAL GENERAL
A41: < 01 mes
A42: 01 a 11 meses
A43: 01 a 04 años
A44: 05 a 11 años
A45: 12 a 17 años
A46: 18 a 29 años
A47: 30 a 59 años
A48: 60 años a más
A49: PS. COTACOTA
...

Sheet NOV
A3: NUMERO DE ATENDIDOS Y ATENCIONES AL ESTABLECIMIENTO POR SEXO
A5: Periodo: Noviembre - 2026
A6: Diresa/Red/M.Red/EE.SS: AREQUIPA/AREQUIPA CAYLLOMA/CALLALLI/TODOS LOS EE.SS
A9: 1. Según Etapa de Vida:
A11: GRUPO ETAREO | B11: ATENDIDOS | E11: ATENCIONES
B12: TOTAL | C12: F | D12: M | E12: TOTAL | F12: F | G12: M
A14: TOTAL GENERAL
A15: < 01 mes
A16: 01 a 11 meses
A17: 01 a 04 años
A18: 05 a 11 años
A19: 12 a 17 años
A20: 18 a 29 años
A21: 30 a 59 años
A22: 60 años a más
A23: PS. CALLALLI
A24: GRUPO ETAREO | B24: ATENDIDOS | E24: ATENCIONES
B25: TOTAL | C25: F | D25: M | E25: TOTAL | F25: F | G25: M
A27: TOTAL GENERAL
A28: < 01 mes
A29: 01 a 11 meses
A30: 01 a 04 años
A31: 05 a 11 años
A32: 12 a 17 años
A33: 18 a 29 años
A34: 30 a 59 años
A35: 60 años a más
A36: PS. CHALHUANCA
A37: GRUPO ETAREO | B37: ATENDIDOS | E37: ATENCIONES
B38: TOTAL | C38: F | D38: M | E38: TOTAL | F38: F | G38: M
A40: TOTAL GENERAL
A41: < 01 mes
A42: 01 a 11 meses
A43: 01 a 04 años
A44: 05 a 11 años
A45: 12 a 17 años
A46: 18 a 29 años
A47: 30 a 59 años
A48: 60 años a más
A49: PS. COTACOTA
...

Sheet DIC
A3: NUMERO DE ATENDIDOS Y ATENCIONES AL ESTABLECIMIENTO POR SEXO
A5: Periodo: Diciembre - 2026
A6: Diresa/Red/M.Red/EE.SS: AREQUIPA/AREQUIPA CAYLLOMA/CALLALLI/TODOS LOS EE.SS
A9: 1. Según Etapa de Vida:
A11: GRUPO ETAREO | B11: ATENDIDOS | E11: ATENCIONES
B12: TOTAL | C12: F | D12: M | E12: TOTAL | F12: F | G12: M
A14: TOTAL GENERAL
A15: < 01 mes
A16: 01 a 11 meses
A17: 01 a 04 años
A18: 05 a 11 años
A19: 12 a 17 años
A20: 18 a 29 años
A21: 30 a 59 años
A22: 60 años a más
A23: CS. CALLALLI
A24: GRUPO ETAREO | B24: ATENDIDOS | E24: ATENCIONES
B25: TOTAL | C25: F | D25: M | E25: TOTAL | F25: F | G25: M
A27: TOTAL GENERAL
A28: < 01 mes
A29: 01 a 11 meses
A30: 01 a 04 años
A31: 05 a 11 años
A32: 12 a 17 años
A33: 18 a 29 años
A34: 30 a 59 años
A35: 60 años a más
A36: PS. CHALHUANCA
A37: GRUPO ETAREO | B37: ATENDIDOS | E37: ATENCIONES
B38: TOTAL | C38: F | D38: M | E38: TOTAL | F38: F | G38: M
A40: TOTAL GENERAL
A41: < 01 mes
A42: 01 a 11 meses
A43: 01 a 04 años
A44: 05 a 11 años
A45: 12 a 17 años
A46: 18 a 29 años
A47: 30 a 59 años
A48: 60 años a más
A49: PS. COTACOTA
...

Sheet 4TRIM
A3: NUMERO DE ATENDIDOS Y ATENCIONES AL ESTABLECIMIENTO POR SEXO
A5: Periodo: Cuarto Trimestre
A6: Diresa/Red/M.Red/EE.SS: AREQUIPA/AREQUIPA CAYLLOMA/TODAS LAS MICRO REDES/TODOS LOS EE.SS
A9: 1. Según Etapa de Vida:
A11: GRUPO ETAREO | B11: ATENDIDOS | E11: ATENCIONES
B12: TOTAL | C12: F | D12: M | E12: TOTAL | F12: F | G12: M
A14: TOTAL GENERAL | B14: =OCT!B14+NOV!B14+DIC!B14 -> 0 | C14: =OCT!C14+NOV!C14+DIC!C14 -> 0 | D14: =OCT!D14+NOV!D14+DIC!D14 -> 0 | E14: =OCT!E14+NOV!E14+DIC!E14 -> 0 | F14: =OCT!F14+NOV!F14+DIC!F14 -> 0 | G14: =OCT!G14+NOV!G14+DIC!G14 -> 0
A15: < 01 mes | B15: =OCT!B15+NOV!B15+DIC!B15 -> 0 | C15: =OCT!C15+NOV!C15+DIC!C15 -> 0 | D15: =OCT!D15+NOV!D15+DIC!D15 -> 0 | E15: =OCT!E15+NOV!E15+DIC!E15 -> 0 | F15: =OCT!F15+NOV!F15+DIC!F15 -> 0 | G15: =OCT!G15+NOV!G15+DIC!G15 -> 0
A16: 01 a 11 meses | B16: =OCT!B16+NOV!B16+DIC!B16 -> 0 | C16: =OCT!C16+NOV!C16+DIC!C16 -> 0 | D16: =OCT!D16+NOV!D16+DIC!D16 -> 0 | E16: =OCT!E16+NOV!E16+DIC!E16 -> 0 | F16: =OCT!F16+NOV!F16+DIC!F16 -> 0 | G16: =OCT!G16+NOV!G16+DIC!G16 -> 0
A17: 01 a 04 años | B17: =OCT!B17+NOV!B17+DIC!B17 -> 0 | C17: =OCT!C17+NOV!C17+DIC!C17 -> 0 | D17: =OCT!D17+NOV!D17+DIC!D17 -> 0 | E17: =OCT!E17+NOV!E17+DIC!E17 -> 0 | F17: =OCT!F17+NOV!F17+DIC!F17 -> 0 | G17: =OCT!G17+NOV!G17+DIC!G17 -> 0
A18: 05 a 11 años | B18: =OCT!B18+NOV!B18+DIC!B18 -> 0 | C18: =OCT!C18+NOV!C18+DIC!C18 -> 0 | D18: =OCT!D18+NOV!D18+DIC!D18 -> 0 | E18: =OCT!E18+NOV!E18+DIC!E18 -> 0 | F18: =OCT!F18+NOV!F18+DIC!F18 -> 0 | G18: =OCT!G18+NOV!G18+DIC!G18 -> 0
A19: 12 a 17 años | B19: =OCT!B19+NOV!B19+DIC!B19 -> 0 | C19: =OCT!C19+NOV!C19+DIC!C19 -> 0 | D19: =OCT!D19+NOV!D19+DIC!D19 -> 0 | E19: =OCT!E19+NOV!E19+DIC!E19 -> 0 | F19: =OCT!F19+NOV!F19+DIC!F19 -> 0 | G19: =OCT!G19+NOV!G19+DIC!G19 -> 0
A20: 18 a 29 años | B20: =OCT!B20+NOV!B20+DIC!B20 -> 0 | C20: =OCT!C20+NOV!C20+DIC!C20 -> 0 | D20: =OCT!D20+NOV!D20+DIC!D20 -> 0 | E20: =OCT!E20+NOV!E20+DIC!E20 -> 0 | F20: =OCT!F20+NOV!F20+DIC!F20 -> 0 | G20: =OCT!G20+NOV!G20+DIC!G20 -> 0
A21: 30 a 59 años | B21: =OCT!B21+NOV!B21+DIC!B21 -> 0 | C21: =OCT!C21+NOV!C21+DIC!C21 -> 0 | D21: =OCT!D21+NOV!D21+DIC!D21 -> 0 | E21: =OCT!E21+NOV!E21+DIC!E21 -> 0 | F21: =OCT!F21+NOV!F21+DIC!F21 -> 0 | G21: =OCT!G21+NOV!G21+DIC!G21 -> 0
A22: 60 años a más | B22: =OCT!B22+NOV!B22+DIC!B22 -> 0 | C22: =OCT!C22+NOV!C22+DIC!C22 -> 0 | D22: =OCT!D22+NOV!D22+DIC!D22 -> 0 | E22: =OCT!E22+NOV!E22+DIC!E22 -> 0 | F22: =OCT!F22+NOV!F22+DIC!F22 -> 0 | G22: =OCT!G22+NOV!G22+DIC!G22 -> 0

Sheet 2SEM
A3: NUMERO DE ATENDIDOS Y ATENCIONES AL ESTABLECIMIENTO POR SEXO
A5: Periodo: Segundo Semestre
A6: Diresa/Red/M.Red/EE.SS: AREQUIPA/AREQUIPA CAYLLOMA/TODAS LAS MICRO REDES/TODOS LOS EE.SS
A9: 1. Según Etapa de Vida:
A11: GRUPO ETAREO | B11: ATENDIDOS | E11: ATENCIONES
B12: TOTAL | C12: F | D12: M | E12: TOTAL | F12: F | G12: M
A14: TOTAL GENERAL | B14: ='3TRIM'!B14+'4TRIM'!B14 -> 668 | C14: ='3TRIM'!C14+'4TRIM'!C14 -> 354 | D14: ='3TRIM'!D14+'4TRIM'!D14 -> 305 | E14: ='3TRIM'!E14+'4TRIM'!E14 -> 7957 | F14: ='3TRIM'!F14+'4TRIM'!F14 -> 4713 | G14: ='3TRIM'!G14+'4TRIM'!G14 -> 3232
A15: < 01 mes | B15: ='3TRIM'!B15+'4TRIM'!B15 -> 5 | C15: ='3TRIM'!C15+'4TRIM'!C15 -> 3 | D15: ='3TRIM'!D15+'4TRIM'!D15 -> 2 | E15: ='3TRIM'!E15+'4TRIM'!E15 -> 28 | F15: ='3TRIM'!F15+'4TRIM'!F15 -> 16 | G15: ='3TRIM'!G15+'4TRIM'!G15 -> 12
A16: 01 a 11 meses | B16: ='3TRIM'!B16+'4TRIM'!B16 -> 3 | C16: ='3TRIM'!C16+'4TRIM'!C16 -> 0 | D16: ='3TRIM'!D16+'4TRIM'!D16 -> 3 | E16: ='3TRIM'!E16+'4TRIM'!E16 -> 162 | F16: ='3TRIM'!F16+'4TRIM'!F16 -> 62 | G16: ='3TRIM'!G16+'4TRIM'!G16 -> 100
A17: 01 a 04 años | B17: ='3TRIM'!B17+'4TRIM'!B17 -> 7 | C17: ='3TRIM'!C17+'4TRIM'!C17 -> 4 | D17: ='3TRIM'!D17+'4TRIM'!D17 -> 3 | E17: ='3TRIM'!E17+'4TRIM'!E17 -> 502 | F17: ='3TRIM'!F17+'4TRIM'!F17 -> 307 | G17: ='3TRIM'!G17+'4TRIM'!G17 -> 195
A18: 05 a 11 años | B18: ='3TRIM'!B18+'4TRIM'!B18 -> 19 | C18: ='3TRIM'!C18+'4TRIM'!C18 -> 13 | D18: ='3TRIM'!D18+'4TRIM'!D18 -> 6 | E18: ='3TRIM'!E18+'4TRIM'!E18 -> 604 | F18: ='3TRIM'!F18+'4TRIM'!F18 -> 257 | G18: ='3TRIM'!G18+'4TRIM'!G18 -> 347
A19: 12 a 17 años | B19: ='3TRIM'!B19+'4TRIM'!B19 -> 26 | C19: ='3TRIM'!C19+'4TRIM'!C19 -> 9 | D19: ='3TRIM'!D19+'4TRIM'!D19 -> 17 | E19: ='3TRIM'!E19+'4TRIM'!E19 -> 824 | F19: ='3TRIM'!F19+'4TRIM'!F19 -> 525 | G19: ='3TRIM'!G19+'4TRIM'!G19 -> 299
A20: 18 a 29 años | B20: ='3TRIM'!B20+'4TRIM'!B20 -> 111 | C20: ='3TRIM'!C20+'4TRIM'!C20 -> 54 | D20: ='3TRIM'!D20+'4TRIM'!D20 -> 56 | E20: ='3TRIM'!E20+'4TRIM'!E20 -> 896 | F20: ='3TRIM'!F20+'4TRIM'!F20 -> 602 | G20: ='3TRIM'!G20+'4TRIM'!G20 -> 293
A21: 30 a 59 años | B21: ='3TRIM'!B21+'4TRIM'!B21 -> 321 | C21: ='3TRIM'!C21+'4TRIM'!C21 -> 182 | D21: ='3TRIM'!D21+'4TRIM'!D21 -> 136 | E21: ='3TRIM'!E21+'4TRIM'!E21 -> 2819 | F21: ='3TRIM'!F21+'4TRIM'!F21 -> 1810 | G21: ='3TRIM'!G21+'4TRIM'!G21 -> 1001
A22: 60 años a más | B22: ='3TRIM'!B22+'4TRIM'!B22 -> 173 | C22: ='3TRIM'!C22+'4TRIM'!C22 -> 89 | D22: ='3TRIM'!D22+'4TRIM'!D22 -> 82 | E22: ='3TRIM'!E22+'4TRIM'!E22 -> 2122 | F22: ='3TRIM'!F22+'4TRIM'!F22 -> 1134 | G22: ='3TRIM'!G22+'4TRIM'!G22 -> 985

Sheet Anual
A3: NUMERO DE ATENDIDOS Y ATENCIONES AL ESTABLECIMIENTO POR SEXO
A5: Periodo: Anual 2025
A6: Diresa/Red/M.Red/EE.SS: AREQUIPA/AREQUIPA CAYLLOMA/TODAS LAS MICRO REDES/TODOS LOS EE.SS
A9: 1. Según Etapa de Vida:
A11: GRUPO ETAREO | B11: ATENDIDOS | E11: ATENCIONES
B12: TOTAL | C12: F | D12: M | E12: TOTAL | F12: F | G12: M
A14: TOTAL GENERAL | B14: ='1SEM'!B14+'2SEM'!B14 -> #REF! | C14: ='1SEM'!C14+'2SEM'!C14 -> #REF! | D14: ='1SEM'!D14+'2SEM'!D14 -> #REF! | E14: ='1SEM'!E14+'2SEM'!E14 -> #REF! | F14: ='1SEM'!F14+'2SEM'!F14 -> #REF! | G14: ='1SEM'!G14+'2SEM'!G14 -> #REF!
A15: < 01 mes | B15: ='1SEM'!B15+'2SEM'!B15 -> #REF! | C15: ='1SEM'!C15+'2SEM'!C15 -> #REF! | D15: ='1SEM'!D15+'2SEM'!D15 -> #REF! | E15: ='1SEM'!E15+'2SEM'!E15 -> #REF! | F15: ='1SEM'!F15+'2SEM'!F15 -> #REF! | G15: ='1SEM'!G15+'2SEM'!G15 -> #REF!
A16: 01 a 11 meses | B16: ='1SEM'!B16+'2SEM'!B16 -> #REF! | C16: ='1SEM'!C16+'2SEM'!C16 -> #REF! | D16: ='1SEM'!D16+'2SEM'!D16 -> #REF! | E16: ='1SEM'!E16+'2SEM'!E16 -> #REF! | F16: ='1SEM'!F16+'2SEM'!F16 -> #REF! | G16: ='1SEM'!G16+'2SEM'!G16 -> #REF!
A17: 01 a 04 años | B17: ='1SEM'!B17+'2SEM'!B17 -> #REF! | C17: ='1SEM'!C17+'2SEM'!C17 -> #REF! | D17: ='1SEM'!D17+'2SEM'!D17 -> #REF! | E17: ='1SEM'!E17+'2SEM'!E17 -> #REF! | F17: ='1SEM'!F17+'2SEM'!F17 -> #REF! | G17: ='1SEM'!G17+'2SEM'!G17 -> #REF!
A18: 05 a 11 años | B18: ='1SEM'!B18+'2SEM'!B18 -> #REF! | C18: ='1SEM'!C18+'2SEM'!C18 -> #REF! | D18: ='1SEM'!D18+'2SEM'!D18 -> #REF! | E18: ='1SEM'!E18+'2SEM'!E18 -> #REF! | F18: ='1SEM'!F18+'2SEM'!F18 -> #REF! | G18: ='1SEM'!G18+'2SEM'!G18 -> #REF!
A19: 12 a 17 años | B19: ='1SEM'!B19+'2SEM'!B19 -> #REF! | C19: ='1SEM'!C19+'2SEM'!C19 -> #REF! | D19: ='1SEM'!D19+'2SEM'!D19 -> #REF! | E19: ='1SEM'!E19+'2SEM'!E19 -> #REF! | F19: ='1SEM'!F19+'2SEM'!F19 -> #REF! | G19: ='1SEM'!G19+'2SEM'!G19 -> #REF!
A20: 18 a 29 años | B20: ='1SEM'!B20+'2SEM'!B20 -> #REF! | C20: ='1SEM'!C20+'2SEM'!C20 -> #REF! | D20: ='1SEM'!D20+'2SEM'!D20 -> #REF! | E20: ='1SEM'!E20+'2SEM'!E20 -> #REF! | F20: ='1SEM'!F20+'2SEM'!F20 -> #REF! | G20: ='1SEM'!G20+'2SEM'!G20 -> #REF!
A21: 30 a 59 años | B21: ='1SEM'!B21+'2SEM'!B21 -> #REF! | C21: ='1SEM'!C21+'2SEM'!C21 -> #REF! | D21: ='1SEM'!D21+'2SEM'!D21 -> #REF! | E21: ='1SEM'!E21+'2SEM'!E21 -> #REF! | F21: ='1SEM'!F21+'2SEM'!F21 -> #REF! | G21: ='1SEM'!G21+'2SEM'!G21 -> #REF!
A22: 60 años a más | B22: ='1SEM'!B22+'2SEM'!B22 -> #REF! | C22: ='1SEM'!C22+'2SEM'!C22 -> #REF! | D22: ='1SEM'!D22+'2SEM'!D22 -> #REF! | E22: ='1SEM'!E22+'2SEM'!E22 -> #REF! | F22: ='1SEM'!F22+'2SEM'!F22 -> #REF! | G22: ='1SEM'!G22+'2SEM'!G22 -> #REF!
